BEGIN:VCALENDAR
VERSION:2.0
PRODID:-//Tukios.com/
BEGIN:VEVENT
UID:79d6f1d5-51c0-4298-9daa-c11cafeb8229@www.turnerfh.com
DTSTAMP:20260422T003956Z
DTSTART:20260425T183000Z
DTEND:20260425T193000Z
SUMMARY:Mass of Christian Burial
DESCRIPTION:
URL:https://www.turnerfh.com/obituaries/jennie-safreed
LOCATION:Divine Grace Parish-Holy Redeemer Church 415 4th Street  Ellwood 
	City PA 16117
GEO:40.8567008;-80.2850768
END:VEVENT
END:VCALENDAR