BEGIN:VCALENDAR
VERSION:2.0
PRODID:-//Tukios.com/
BEGIN:VEVENT
UID:6e129fa7-dcb6-4e86-a846-55f8990bbaae@www.turnerfh.com
DTSTAMP:20260422T004418Z
DTSTART:20260425T161500Z
DTEND:20260425T181500Z
SUMMARY:Visitation
DESCRIPTION:
URL:https://www.turnerfh.com/obituaries/jennie-safreed
LOCATION: 500 6th Street  Ellwood City PA 16117
GEO:40.855956;-80.2891286
END:VEVENT
END:VCALENDAR